Package: SamSPECTRAL Version: 1.61.0 Command: /Library/Frameworks/R.framework/Resources/bin/R CMD INSTALL SamSPECTRAL StartedAt: 2025-02-09 15:02:06 -0500 (Sun, 09 Feb 2025) EndedAt: 2025-02-09 15:02:10 -0500 (Sun, 09 Feb 2025) EllapsedTime: 4.7 seconds RetCode: 0 Status: OK