Package: SamSPECTRAL Version: 1.61.0 Command: /home/biocbuild/R/R/bin/R CMD check --install=check:SamSPECTRAL.install-out.txt --library=/home/biocbuild/R/R/site-library --no-vignettes --timings SamSPECTRAL_1.61.0.tar.gz StartedAt: 2025-01-28 14:52:30 -0000 (Tue, 28 Jan 2025) EndedAt: 2025-01-28 14:52:55 -0000 (Tue, 28 Jan 2025) EllapsedTime: 24.0 seconds RetCode: 0 Status: WARNINGS CheckDir: SamSPECTRAL.Rcheck Warnings: 2