Package: SamSPECTRAL Version: 1.61.0 Command: /home/biocbuild/R/R/bin/R CMD INSTALL SamSPECTRAL StartedAt: 2025-01-29 19:32:26 -0000 (Wed, 29 Jan 2025) EndedAt: 2025-01-29 19:32:50 -0000 (Wed, 29 Jan 2025) EllapsedTime: 24.2 seconds RetCode: 0 Status: OK