Package: SamSPECTRAL Version: 1.61.0 Command: /Library/Frameworks/R.framework/Resources/bin/R CMD build --keep-empty-dirs --no-resave-data SamSPECTRAL StartedAt: 2025-02-12 18:09:05 -0500 (Wed, 12 Feb 2025) EndedAt: 2025-02-12 18:10:10 -0500 (Wed, 12 Feb 2025) EllapsedTime: 65.0 seconds RetCode: 0 Status: OK PackageFile: SamSPECTRAL_1.61.0.tar.gz PackageFileSize: 936 KiB