Package: SamSPECTRAL Version: 1.61.0 Command: /Library/Frameworks/R.framework/Resources/bin/R CMD check --install=check:SamSPECTRAL.install-out.txt --library=/Library/Frameworks/R.framework/Resources/library --no-vignettes --timings SamSPECTRAL_1.61.0.tar.gz StartedAt: 2025-02-09 23:19:16 -0500 (Sun, 09 Feb 2025) EndedAt: 2025-02-09 23:19:49 -0500 (Sun, 09 Feb 2025) EllapsedTime: 33.1 seconds RetCode: 0 Status: WARNINGS CheckDir: SamSPECTRAL.Rcheck Warnings: 1