Package: SamSPECTRAL Version: 1.61.0 Command: /home/biocbuild/bbs-3.21-bioc/R/bin/R CMD check --install=check:SamSPECTRAL.install-out.txt --library=/home/biocbuild/bbs-3.21-bioc/R/site-library --timings SamSPECTRAL_1.61.0.tar.gz StartedAt: 2025-02-13 02:12:57 -0500 (Thu, 13 Feb 2025) EndedAt: 2025-02-13 02:14:14 -0500 (Thu, 13 Feb 2025) EllapsedTime: 77.2 seconds RetCode: 0 Status: WARNINGS CheckDir: SamSPECTRAL.Rcheck Warnings: 2