Package: SamSPECTRAL Version: 1.61.0 Command: rm -rf SamSPECTRAL.buildbin-libdir && mkdir SamSPECTRAL.buildbin-libdir && E:\biocbuild\bbs-3.21-bioc\R\bin\R.exe CMD INSTALL --build --library=SamSPECTRAL.buildbin-libdir SamSPECTRAL_1.61.0.tar.gz StartedAt: 2025-02-13 08:47:53 -0500 (Thu, 13 Feb 2025) EndedAt: 2025-02-13 08:48:08 -0500 (Thu, 13 Feb 2025) EllapsedTime: 15.5 seconds RetCode: 0 Status: OK PackageFile: SamSPECTRAL_1.61.0.zip PackageFileSize: 898.5 KiB