Package: SamSPECTRAL Version: 1.61.0 Command: chmod a+r SamSPECTRAL -R && E:\biocbuild\bbs-3.21-bioc\R\bin\R.exe CMD build --keep-empty-dirs --no-resave-data SamSPECTRAL StartedAt: 2025-02-09 21:21:23 -0500 (Sun, 09 Feb 2025) EndedAt: 2025-02-09 21:23:24 -0500 (Sun, 09 Feb 2025) EllapsedTime: 120.3 seconds RetCode: 0 Status: OK PackageFile: SamSPECTRAL_1.61.0.tar.gz PackageFileSize: 833.3 KiB