Package: SamSPECTRAL Version: 1.61.0 Command: E:\biocbuild\bbs-3.21-bioc\R\bin\R.exe CMD check --no-multiarch --install=check:SamSPECTRAL.install-out.txt --library=E:\biocbuild\bbs-3.21-bioc\R\library --no-vignettes --timings SamSPECTRAL_1.61.0.tar.gz StartedAt: 2025-02-10 04:59:33 -0500 (Mon, 10 Feb 2025) EndedAt: 2025-02-10 05:00:11 -0500 (Mon, 10 Feb 2025) EllapsedTime: 37.4 seconds RetCode: 0 Status: WARNINGS CheckDir: SamSPECTRAL.Rcheck Warnings: 1