Package: SamSPECTRAL Version: 1.61.0 Command: E:\biocbuild\bbs-3.21-bioc\R\bin\R.exe CMD INSTALL SamSPECTRAL StartedAt: 2025-02-09 15:21:50 -0500 (Sun, 09 Feb 2025) EndedAt: 2025-02-09 15:22:04 -0500 (Sun, 09 Feb 2025) EllapsedTime: 14.8 seconds RetCode: 0 Status: OK