Package: Scale4C Version: 1.29.0 Command: rm -rf Scale4C.buildbin-libdir && mkdir Scale4C.buildbin-libdir && /Users/biocbuild/BBS/utils/build-universal.sh Scale4C_1.29.0.tar.gz /Library/Frameworks/R.framework/Resources/bin/R Scale4C.buildbin-libdir StartedAt: 2025-02-09 22:29:15 -0500 (Sun, 09 Feb 2025) EndedAt: 2025-02-09 22:29:29 -0500 (Sun, 09 Feb 2025) EllapsedTime: 13.3 seconds RetCode: 0 Status: OK PackageFile: Scale4C_1.29.0.tgz PackageFileSize: 2.143 MiB