Package: Scale4C Version: 1.29.0 Command: /Library/Frameworks/R.framework/Resources/bin/R CMD INSTALL Scale4C StartedAt: 2025-02-09 15:12:04 -0500 (Sun, 09 Feb 2025) EndedAt: 2025-02-09 15:12:15 -0500 (Sun, 09 Feb 2025) EllapsedTime: 11.1 seconds RetCode: 0 Status: OK