Package: Scale4C Version: 1.29.0 Command: /Library/Frameworks/R.framework/Resources/bin/R CMD build --keep-empty-dirs --no-resave-data Scale4C StartedAt: 2025-02-09 18:17:13 -0500 (Sun, 09 Feb 2025) EndedAt: 2025-02-09 18:19:09 -0500 (Sun, 09 Feb 2025) EllapsedTime: 115.7 seconds RetCode: 0 Status: OK PackageFile: Scale4C_1.29.0.tar.gz PackageFileSize: 4.9 MiB