Package: Scale4C Version: 1.29.0 Command: /Library/Frameworks/R.framework/Resources/bin/R CMD check --install=check:Scale4C.install-out.txt --library=/Library/Frameworks/R.framework/Resources/library --no-vignettes --timings Scale4C_1.29.0.tar.gz StartedAt: 2025-02-09 23:20:45 -0500 (Sun, 09 Feb 2025) EndedAt: 2025-02-09 23:24:25 -0500 (Sun, 09 Feb 2025) EllapsedTime: 220.4 seconds RetCode: 0 Status: OK CheckDir: Scale4C.Rcheck Warnings: 0