Package: Scale4C Version: 1.29.0 Command: /home/biocbuild/bbs-3.21-bioc/R/bin/R CMD check --install=check:Scale4C.install-out.txt --library=/home/biocbuild/bbs-3.21-bioc/R/site-library --timings Scale4C_1.29.0.tar.gz StartedAt: 2025-02-10 02:13:28 -0500 (Mon, 10 Feb 2025) EndedAt: 2025-02-10 02:17:51 -0500 (Mon, 10 Feb 2025) EllapsedTime: 263.3 seconds RetCode: 0 Status: OK CheckDir: Scale4C.Rcheck Warnings: 0