Package: Scale4C Version: 1.29.0 Command: E:\biocbuild\bbs-3.21-bioc\R\bin\R.exe CMD check --no-multiarch --install=check:Scale4C.install-out.txt --library=E:\biocbuild\bbs-3.21-bioc\R\library --no-vignettes --timings Scale4C_1.29.0.tar.gz StartedAt: 2025-02-13 05:10:21 -0500 (Thu, 13 Feb 2025) EndedAt: 2025-02-13 05:13:55 -0500 (Thu, 13 Feb 2025) EllapsedTime: 214.2 seconds RetCode: 0 Status: OK CheckDir: Scale4C.Rcheck Warnings: 0