Package: Scale4C Version: 1.29.0 Command: E:\biocbuild\bbs-3.21-bioc\R\bin\R.exe CMD INSTALL Scale4C StartedAt: 2025-02-12 16:42:00 -0500 (Wed, 12 Feb 2025) EndedAt: 2025-02-12 16:42:47 -0500 (Wed, 12 Feb 2025) EllapsedTime: 47.2 seconds RetCode: 0 Status: OK