Package: ScaledMatrix Version: 1.15.0 Command: rm -rf ScaledMatrix.buildbin-libdir && mkdir ScaledMatrix.buildbin-libdir && /Users/biocbuild/BBS/utils/build-universal.sh ScaledMatrix_1.15.0.tar.gz /Library/Frameworks/R.framework/Resources/bin/R ScaledMatrix.buildbin-libdir StartedAt: 2025-02-12 22:34:25 -0500 (Wed, 12 Feb 2025) EndedAt: 2025-02-12 22:34:33 -0500 (Wed, 12 Feb 2025) EllapsedTime: 8.1 seconds RetCode: 0 Status: OK PackageFile: ScaledMatrix_1.15.0.tgz PackageFileSize: 605.9 KiB