Package: ScaledMatrix Version: 1.15.0 Command: /Library/Frameworks/R.framework/Resources/bin/R CMD INSTALL ScaledMatrix StartedAt: 2025-02-12 15:03:29 -0500 (Wed, 12 Feb 2025) EndedAt: 2025-02-12 15:03:36 -0500 (Wed, 12 Feb 2025) EllapsedTime: 7.0 seconds RetCode: 0 Status: OK