Package: ScaledMatrix Version: 1.15.0 Command: /home/biocbuild/R/R/bin/R CMD build --keep-empty-dirs --no-resave-data ScaledMatrix StartedAt: 2025-01-29 01:58:05 -0000 (Wed, 29 Jan 2025) EndedAt: 2025-01-29 02:01:15 -0000 (Wed, 29 Jan 2025) EllapsedTime: 190.2 seconds RetCode: 0 Status: OK PackageFile: ScaledMatrix_1.15.0.tar.gz PackageFileSize: 372.7 KiB