Package: ScaledMatrix Version: 1.15.0 Command: /home/biocbuild/R/R/bin/R CMD INSTALL ScaledMatrix StartedAt: 2025-01-29 19:37:32 -0000 (Wed, 29 Jan 2025) EndedAt: 2025-01-29 19:37:57 -0000 (Wed, 29 Jan 2025) EllapsedTime: 24.5 seconds RetCode: 0 Status: OK