Package: ScaledMatrix Version: 1.15.0 Command: /home/biocbuild/bbs-3.21-bioc/R/bin/R CMD build --keep-empty-dirs --no-resave-data ScaledMatrix StartedAt: 2025-02-12 18:59:57 -0500 (Wed, 12 Feb 2025) EndedAt: 2025-02-12 19:02:25 -0500 (Wed, 12 Feb 2025) EllapsedTime: 148.2 seconds RetCode: 0 Status: OK PackageFile: ScaledMatrix_1.15.0.tar.gz PackageFileSize: 306.4 KiB