Package: ScaledMatrix Version: 1.15.0 Command: /home/biocbuild/bbs-3.21-bioc/R/bin/R CMD INSTALL ScaledMatrix StartedAt: 2025-02-09 15:50:15 -0500 (Sun, 09 Feb 2025) EndedAt: 2025-02-09 15:50:33 -0500 (Sun, 09 Feb 2025) EllapsedTime: 18.3 seconds RetCode: 0 Status: OK