Package: ScaledMatrix Version: 1.15.0 Command: rm -rf ScaledMatrix.buildbin-libdir && mkdir ScaledMatrix.buildbin-libdir && E:\biocbuild\bbs-3.21-bioc\R\bin\R.exe CMD INSTALL --build --library=ScaledMatrix.buildbin-libdir ScaledMatrix_1.15.0.tar.gz StartedAt: 2025-02-10 08:37:32 -0500 (Mon, 10 Feb 2025) EndedAt: 2025-02-10 08:38:35 -0500 (Mon, 10 Feb 2025) EllapsedTime: 63.7 seconds RetCode: 0 Status: OK PackageFile: ScaledMatrix_1.15.0.zip PackageFileSize: 610.9 KiB