Package: ScaledMatrix Version: 1.15.0 Command: chmod a+r ScaledMatrix -R && E:\biocbuild\bbs-3.21-bioc\R\bin\R.exe CMD build --keep-empty-dirs --no-resave-data ScaledMatrix StartedAt: 2025-02-09 21:22:52 -0500 (Sun, 09 Feb 2025) EndedAt: 2025-02-09 21:25:38 -0500 (Sun, 09 Feb 2025) EllapsedTime: 165.4 seconds RetCode: 0 Status: OK PackageFile: ScaledMatrix_1.15.0.tar.gz PackageFileSize: 306.4 KiB