Package: SemDist Version: 1.41.0 Command: /home/biocbuild/bbs-3.21-bioc/R/bin/R CMD INSTALL SemDist StartedAt: 2025-02-09 15:41:45 -0500 (Sun, 09 Feb 2025) EndedAt: 2025-02-09 15:41:59 -0500 (Sun, 09 Feb 2025) EllapsedTime: 14.5 seconds RetCode: 0 Status: OK