Package: SemDist Version: 1.41.0 Command: rm -rf SemDist.buildbin-libdir && mkdir SemDist.buildbin-libdir && E:\biocbuild\bbs-3.21-bioc\R\bin\R.exe CMD INSTALL --build --library=SemDist.buildbin-libdir SemDist_1.41.0.tar.gz StartedAt: 2025-02-13 08:52:04 -0500 (Thu, 13 Feb 2025) EndedAt: 2025-02-13 08:52:27 -0500 (Thu, 13 Feb 2025) EllapsedTime: 23.2 seconds RetCode: 0 Status: OK PackageFile: SemDist_1.41.0.zip PackageFileSize: 1.918 MiB