Package: SeqArray Version: 1.47.3 Maintainer: Xiuwen Zheng MaintainerEmail: zhengx at u.washington.edu git_url: https://git.bioconductor.org/packages/SeqArray git_branch: devel git_last_commit: afa5789 git_last_commit_date: 2025-02-01 17:11:42 -0500 (Sat, 01 Feb 2025)