Package: SeqArray Version: 1.47.3 Command: /Library/Frameworks/R.framework/Resources/bin/R CMD check --install=check:SeqArray.install-out.txt --library=/Library/Frameworks/R.framework/Resources/library --no-vignettes --timings SeqArray_1.47.3.tar.gz StartedAt: 2025-02-04 21:21:09 -0500 (Tue, 04 Feb 2025) EndedAt: 2025-02-04 21:22:28 -0500 (Tue, 04 Feb 2025) EllapsedTime: 78.9 seconds RetCode: 0 Status: OK CheckDir: SeqArray.Rcheck Warnings: 0