Package: SeqArray Version: 1.47.3 Command: /Library/Frameworks/R.framework/Resources/bin/R CMD INSTALL SeqArray StartedAt: 2025-02-09 15:04:07 -0500 (Sun, 09 Feb 2025) EndedAt: 2025-02-09 15:04:20 -0500 (Sun, 09 Feb 2025) EllapsedTime: 12.5 seconds RetCode: 0 Status: OK