Package: SeqArray Version: 1.47.2 Command: /home/biocbuild/R/R/bin/R CMD build --keep-empty-dirs --no-resave-data SeqArray StartedAt: 2025-01-28 02:24:45 -0000 (Tue, 28 Jan 2025) EndedAt: 2025-01-28 02:27:21 -0000 (Tue, 28 Jan 2025) EllapsedTime: 156.1 seconds RetCode: 0 Status: OK PackageFile: SeqArray_1.47.2.tar.gz PackageFileSize: 3.214 MiB