Package: SeqArray Version: 1.47.2 Command: /home/biocbuild/R/R/bin/R CMD check --install=check:SeqArray.install-out.txt --library=/home/biocbuild/R/R/site-library --no-vignettes --timings SeqArray_1.47.2.tar.gz StartedAt: 2025-01-28 15:13:22 -0000 (Tue, 28 Jan 2025) EndedAt: 2025-01-28 15:17:31 -0000 (Tue, 28 Jan 2025) EllapsedTime: 249.3 seconds RetCode: 0 Status: OK CheckDir: SeqArray.Rcheck Warnings: 0