Package: SeqArray Version: 1.47.3 Command: rm -rf SeqArray.buildbin-libdir && mkdir SeqArray.buildbin-libdir && /Users/biocbuild/BBS/utils/build-universal.sh SeqArray_1.47.3.tar.gz /Library/Frameworks/R.framework/Resources/bin/R SeqArray.buildbin-libdir StartedAt: 2025-02-10 01:16:03 -0500 (Mon, 10 Feb 2025) EndedAt: 2025-02-10 01:17:01 -0500 (Mon, 10 Feb 2025) EllapsedTime: 57.5 seconds RetCode: 0 Status: OK PackageFile: SeqArray_1.47.3.tgz PackageFileSize: 4.17 MiB