Package: SeqArray Version: 1.47.3 Command: /home/biocbuild/bbs-3.21-bioc/R/bin/R CMD check --install=check:SeqArray.install-out.txt --library=/home/biocbuild/bbs-3.21-bioc/R/site-library --timings SeqArray_1.47.3.tar.gz StartedAt: 2025-02-05 02:41:40 -0500 (Wed, 05 Feb 2025) EndedAt: 2025-02-05 02:46:56 -0500 (Wed, 05 Feb 2025) EllapsedTime: 316.5 seconds RetCode: 0 Status: OK CheckDir: SeqArray.Rcheck Warnings: 0