Package: SeqArray Version: 1.47.3 Command: /home/biocbuild/bbs-3.21-bioc/R/bin/R CMD INSTALL SeqArray StartedAt: 2025-02-09 15:16:34 -0500 (Sun, 09 Feb 2025) EndedAt: 2025-02-09 15:17:15 -0500 (Sun, 09 Feb 2025) EllapsedTime: 40.9 seconds RetCode: 0 Status: OK