Package: SeqArray Version: 1.47.3 Command: rm -rf SeqArray.buildbin-libdir && mkdir SeqArray.buildbin-libdir && E:\biocbuild\bbs-3.21-bioc\R\bin\R.exe CMD INSTALL --build --library=SeqArray.buildbin-libdir SeqArray_1.47.3.tar.gz StartedAt: 2025-02-05 08:53:45 -0500 (Wed, 05 Feb 2025) EndedAt: 2025-02-05 08:55:42 -0500 (Wed, 05 Feb 2025) EllapsedTime: 117.0 seconds RetCode: 0 Status: OK PackageFile: SeqArray_1.47.3.zip PackageFileSize: 3.494 MiB