Package: SeqArray Version: 1.47.3 Command: E:\biocbuild\bbs-3.21-bioc\R\bin\R.exe CMD check --no-multiarch --install=check:SeqArray.install-out.txt --library=E:\biocbuild\bbs-3.21-bioc\R\library --no-vignettes --timings SeqArray_1.47.3.tar.gz StartedAt: 2025-02-05 05:46:10 -0500 (Wed, 05 Feb 2025) EndedAt: 2025-02-05 05:48:59 -0500 (Wed, 05 Feb 2025) EllapsedTime: 169.6 seconds RetCode: 0 Status: OK CheckDir: SeqArray.Rcheck Warnings: 0