Package: SeqGate Version: 1.17.0 Command: /Library/Frameworks/R.framework/Resources/bin/R CMD build --keep-empty-dirs --no-resave-data SeqGate StartedAt: 2025-02-05 17:38:36 -0500 (Wed, 05 Feb 2025) EndedAt: 2025-02-05 17:38:55 -0500 (Wed, 05 Feb 2025) EllapsedTime: 19.2 seconds RetCode: 0 Status: OK PackageFile: SeqGate_1.17.0.tar.gz PackageFileSize: 248.7 KiB