Package: SeqGate Version: 1.17.0 Command: /Library/Frameworks/R.framework/Resources/bin/R CMD check --install=check:SeqGate.install-out.txt --library=/Library/Frameworks/R.framework/Resources/library --no-vignettes --timings SeqGate_1.17.0.tar.gz StartedAt: 2025-02-05 21:24:27 -0500 (Wed, 05 Feb 2025) EndedAt: 2025-02-05 21:25:23 -0500 (Wed, 05 Feb 2025) EllapsedTime: 56.6 seconds RetCode: 0 Status: OK CheckDir: SeqGate.Rcheck Warnings: 0