Package: SeqGate Version: 1.17.0 Command: /home/biocbuild/R/R/bin/R CMD build --keep-empty-dirs --no-resave-data SeqGate StartedAt: 2025-01-29 02:18:07 -0000 (Wed, 29 Jan 2025) EndedAt: 2025-01-29 02:19:14 -0000 (Wed, 29 Jan 2025) EllapsedTime: 67.1 seconds RetCode: 0 Status: OK PackageFile: SeqGate_1.17.0.tar.gz PackageFileSize: 272.5 KiB