Package: SeqGate Version: 1.17.0 Command: /home/biocbuild/R/R/bin/R CMD INSTALL SeqGate StartedAt: 2025-01-29 19:39:20 -0000 (Wed, 29 Jan 2025) EndedAt: 2025-01-29 19:39:48 -0000 (Wed, 29 Jan 2025) EllapsedTime: 27.5 seconds RetCode: 0 Status: OK