Package: SeqGate Version: 1.17.0 Command: /Library/Frameworks/R.framework/Resources/bin/R CMD build --keep-empty-dirs --no-resave-data SeqGate StartedAt: 2025-02-04 18:17:58 -0500 (Tue, 04 Feb 2025) EndedAt: 2025-02-04 18:18:51 -0500 (Tue, 04 Feb 2025) EllapsedTime: 52.6 seconds RetCode: 0 Status: OK PackageFile: SeqGate_1.17.0.tar.gz PackageFileSize: 248.6 KiB