Package: SeqGate Version: 1.17.0 Command: /home/biocbuild/bbs-3.21-bioc/R/bin/R CMD INSTALL SeqGate StartedAt: 2025-02-05 15:17:05 -0500 (Wed, 05 Feb 2025) EndedAt: 2025-02-05 15:17:25 -0500 (Wed, 05 Feb 2025) EllapsedTime: 20.1 seconds RetCode: 0 Status: OK