Package: SeqGate Version: 1.17.0 Command: rm -rf SeqGate.buildbin-libdir && mkdir SeqGate.buildbin-libdir && E:\biocbuild\bbs-3.21-bioc\R\bin\R.exe CMD INSTALL --build --library=SeqGate.buildbin-libdir SeqGate_1.17.0.tar.gz StartedAt: 2025-02-06 09:01:02 -0500 (Thu, 06 Feb 2025) EndedAt: 2025-02-06 09:01:22 -0500 (Thu, 06 Feb 2025) EllapsedTime: 20.7 seconds RetCode: 0 Status: OK PackageFile: SeqGate_1.17.0.zip PackageFileSize: 269.6 KiB