Package: SeqGate Version: 1.17.0 Command: chmod a+r SeqGate -R && E:\biocbuild\bbs-3.21-bioc\R\bin\R.exe CMD build --keep-empty-dirs --no-resave-data SeqGate StartedAt: 2025-02-05 21:42:49 -0500 (Wed, 05 Feb 2025) EndedAt: 2025-02-05 21:43:50 -0500 (Wed, 05 Feb 2025) EllapsedTime: 60.8 seconds RetCode: 0 Status: OK PackageFile: SeqGate_1.17.0.tar.gz PackageFileSize: 248.9 KiB