Package: SeqGate Version: 1.17.0 Command: E:\biocbuild\bbs-3.21-bioc\R\bin\R.exe CMD INSTALL SeqGate StartedAt: 2025-02-05 15:48:21 -0500 (Wed, 05 Feb 2025) EndedAt: 2025-02-05 15:48:48 -0500 (Wed, 05 Feb 2025) EllapsedTime: 26.6 seconds RetCode: 0 Status: OK