Package: SeqSQC Version: 1.29.0 Command: /Library/Frameworks/R.framework/Resources/bin/R CMD build --keep-empty-dirs --no-resave-data SeqSQC StartedAt: 2025-02-04 17:36:25 -0500 (Tue, 04 Feb 2025) EndedAt: 2025-02-04 17:36:49 -0500 (Tue, 04 Feb 2025) EllapsedTime: 24.3 seconds RetCode: 0 Status: OK PackageFile: SeqSQC_1.29.0.tar.gz PackageFileSize: 4.529 MiB