Package: SeqSQC Version: 1.29.0 Command: /Library/Frameworks/R.framework/Resources/bin/R CMD check --install=check:SeqSQC.install-out.txt --library=/Library/Frameworks/R.framework/Resources/library --no-vignettes --timings SeqSQC_1.29.0.tar.gz StartedAt: 2025-02-04 21:22:08 -0500 (Tue, 04 Feb 2025) EndedAt: 2025-02-04 21:23:19 -0500 (Tue, 04 Feb 2025) EllapsedTime: 70.9 seconds RetCode: 0 Status: WARNINGS CheckDir: SeqSQC.Rcheck Warnings: 1