Package: SeqSQC Version: 1.29.0 Command: /home/biocbuild/R/R/bin/R CMD build --keep-empty-dirs --no-resave-data SeqSQC StartedAt: 2025-01-29 02:18:39 -0000 (Wed, 29 Jan 2025) EndedAt: 2025-01-29 02:20:00 -0000 (Wed, 29 Jan 2025) EllapsedTime: 81.1 seconds RetCode: 0 Status: OK PackageFile: SeqSQC_1.29.0.tar.gz PackageFileSize: 4.94 MiB