Package: SeqSQC Version: 1.29.0 Command: /home/biocbuild/bbs-3.21-bioc/R/bin/R CMD build --keep-empty-dirs --no-resave-data SeqSQC StartedAt: 2025-02-04 19:13:01 -0500 (Tue, 04 Feb 2025) EndedAt: 2025-02-04 19:13:54 -0500 (Tue, 04 Feb 2025) EllapsedTime: 53.1 seconds RetCode: 0 Status: OK PackageFile: SeqSQC_1.29.0.tar.gz PackageFileSize: 4.491 MiB